BEGIN:VCALENDAR
VERSION:2.0
PRODID:-//The Northeast Earth Coalition - ECPv6.15.20//NONSGML v1.0//EN
CALSCALE:GREGORIAN
METHOD:PUBLISH
X-WR-CALNAME:The Northeast Earth Coalition
X-ORIGINAL-URL:https://neearth.org
X-WR-CALDESC:Events for The Northeast Earth Coalition
REFRESH-INTERVAL;VALUE=DURATION:PT1H
X-Robots-Tag:noindex
X-PUBLISHED-TTL:PT1H
BEGIN:VTIMEZONE
TZID:America/New_York
BEGIN:DAYLIGHT
TZOFFSETFROM:-0500
TZOFFSETTO:-0400
TZNAME:EDT
DTSTART:20210314T070000
END:DAYLIGHT
BEGIN:STANDARD
TZOFFSETFROM:-0400
TZOFFSETTO:-0500
TZNAME:EST
DTSTART:20211107T060000
END:STANDARD
BEGIN:DAYLIGHT
TZOFFSETFROM:-0500
TZOFFSETTO:-0400
TZNAME:EDT
DTSTART:20220313T070000
END:DAYLIGHT
BEGIN:STANDARD
TZOFFSETFROM:-0400
TZOFFSETTO:-0500
TZNAME:EST
DTSTART:20221106T060000
END:STANDARD
BEGIN:DAYLIGHT
TZOFFSETFROM:-0500
TZOFFSETTO:-0400
TZNAME:EDT
DTSTART:20230312T070000
END:DAYLIGHT
BEGIN:STANDARD
TZOFFSETFROM:-0400
TZOFFSETTO:-0500
TZNAME:EST
DTSTART:20231105T060000
END:STANDARD
END:VTIMEZONE
BEGIN:VEVENT
DTSTART;TZID=America/New_York:20220521T100000
DTEND;TZID=America/New_York:20220521T160000
DTSTAMP:20260423T070847
CREATED:20220109T014328Z
LAST-MODIFIED:20230430T130158Z
UID:1636-1653127200-1653148800@neearth.org
SUMMARY:Montclair Eco-Fair 2022
DESCRIPTION:The Montclair Eco-Fair is back! This is a community event that you will want to be part of. The Episcopal Church of St. James is partnering with the NEEC to host this event in their front yard. \nJoin local environmentalists and community activists in an outdoor event with environmental displays. \nCome and learn about gardening for pollinators and butterflies\, native plants\, edible landscapes\, community gardens\, and volunteer opportunities. Enjoy live music by local performers. \nParticipant groups: Bike and Walk Montclair; NJ Native Plant Society\, Essex County Chapter; Bonsal Wildlife Preserve Conservancy; Quiet Montclair\, Montclair\, Montclair Climate Action\, The Montclair Chapter of Citizen’s Climate Lobby\, Montclair Environmental Commission\, Momentum Solar Power\, Radio Free Radio\, Montclair League of Women Voters\, MOM’s Organic Market\, Montclair Backyard Wildlife Habitat\, NEEC Community Food Network\, Montclair Make Music Day\, Pedals for Progress\, Good Bottle Refill Shop\, DollyMoo\, Essex Ridge Apiaries\, MASN Coop\, Green Power Energy\, Northeast Pollinator Pathways\, and Save Soil Movement among other groups. \nLive Music! Joe Colwell and Gerry Hazel will be performing at the event. \n \nWould your group like to participate? Tabling opportunities!
URL:https://neearth.org/events/montclair-eco-fair-2022/
LOCATION:St. James Episcopal Church\, 581 Valley Road\, Montclair\, NJ\, 07043\, United States
CATEGORIES:Community Outreach,Environmental Initiatives,Monarch Butterfly,Native Plants,Pollinators,Renewable Energy,Sustainable Transportation,Wildlife Habitats
ATTACH;FMTTYPE=image/jpeg:https://neearth.org/wp-content/uploads/2019/11/IMG_6816.jpg
ORGANIZER;CN="Northeast Earth Coalition":MAILTO:info@neearth.org
END:VEVENT
END:VCALENDAR