BEGIN:VCALENDAR
VERSION:2.0
PRODID:-//The Northeast Earth Coalition - ECPv6.15.20//NONSGML v1.0//EN
CALSCALE:GREGORIAN
METHOD:PUBLISH
X-WR-CALNAME:The Northeast Earth Coalition
X-ORIGINAL-URL:https://neearth.org
X-WR-CALDESC:Events for The Northeast Earth Coalition
REFRESH-INTERVAL;VALUE=DURATION:PT1H
X-Robots-Tag:noindex
X-PUBLISHED-TTL:PT1H
BEGIN:VTIMEZONE
TZID:America/New_York
BEGIN:DAYLIGHT
TZOFFSETFROM:-0500
TZOFFSETTO:-0400
TZNAME:EDT
DTSTART:20210314T070000
END:DAYLIGHT
BEGIN:STANDARD
TZOFFSETFROM:-0400
TZOFFSETTO:-0500
TZNAME:EST
DTSTART:20211107T060000
END:STANDARD
BEGIN:DAYLIGHT
TZOFFSETFROM:-0500
TZOFFSETTO:-0400
TZNAME:EDT
DTSTART:20220313T070000
END:DAYLIGHT
BEGIN:STANDARD
TZOFFSETFROM:-0400
TZOFFSETTO:-0500
TZNAME:EST
DTSTART:20221106T060000
END:STANDARD
BEGIN:DAYLIGHT
TZOFFSETFROM:-0500
TZOFFSETTO:-0400
TZNAME:EDT
DTSTART:20230312T070000
END:DAYLIGHT
BEGIN:STANDARD
TZOFFSETFROM:-0400
TZOFFSETTO:-0500
TZNAME:EST
DTSTART:20231105T060000
END:STANDARD
END:VTIMEZONE
BEGIN:VEVENT
DTSTART;TZID=America/New_York:20220624T090000
DTEND;TZID=America/New_York:20220624T160000
DTSTAMP:20260423T084641
CREATED:20220608T182628Z
LAST-MODIFIED:20220608T202406Z
UID:1735-1656061200-1656086400@neearth.org
SUMMARY:New Jersey Sustainability Summit 2022
DESCRIPTION:The New Jersey Sustainability Summit is a momentous event in our state\, drawing change-makers from across the political\, private\, and public sectors. This exceptional one-day forum spotlights the successes and lessons learned from the people and projects that are helping New Jersey realize a more sustainable future. Our last live Summit’s audience ended the day with tangible resources and strategies to assist with their own community initiatives. This is your opportunity to do the same. We invite all who are interested to be ready to deepen their understanding and expand their network. \n \nJose German Gomez\, Founder & CEO of the NEEC\, will be a speaker at the summit. He will talk about “HOW DOES YOUR GARDEN GROW?” \nSJ\, SJS A goal of community and school gardens is to be environmentally friendly\, but what does that really mean? What is certified organic vs. organic gardening techniques? Experts will share the range of practices and their relative importance to keeping your gardens as environmentally friendly as possible. [1.0 CEUs available: CPWM\, Tech] \nFor additional information\, and registration\, please use this button: \n \n  \nThe Northeast Earth Coalition is an All-Volunteer Driven Environmental & Social Justice 501 (c)(3) Non-profit Organization. We rely on individual donations. If you want to support our mission and programs\, please donate here: \n 
URL:https://neearth.org/events/new-jersey-sustainability-summit-2022/
LOCATION:Bells Works\, Holdelm\, NJ\, 101 Crawfords Corner Rd\, Holmdel\, NJ\, 07733\, United States
CATEGORIES:Environmental Initiatives,Health and Nutrition,Sustainability
ATTACH;FMTTYPE=image/png:https://neearth.org/wp-content/uploads/2022/06/Picture1-e1655760027799.png
END:VEVENT
END:VCALENDAR