BEGIN:VCALENDAR
VERSION:2.0
PRODID:-//The Northeast Earth Coalition - ECPv6.15.20//NONSGML v1.0//EN
CALSCALE:GREGORIAN
METHOD:PUBLISH
X-WR-CALNAME:The Northeast Earth Coalition
X-ORIGINAL-URL:https://neearth.org
X-WR-CALDESC:Events for The Northeast Earth Coalition
REFRESH-INTERVAL;VALUE=DURATION:PT1H
X-Robots-Tag:noindex
X-PUBLISHED-TTL:PT1H
BEGIN:VTIMEZONE
TZID:America/New_York
BEGIN:DAYLIGHT
TZOFFSETFROM:-0500
TZOFFSETTO:-0400
TZNAME:EDT
DTSTART:20220313T070000
END:DAYLIGHT
BEGIN:STANDARD
TZOFFSETFROM:-0400
TZOFFSETTO:-0500
TZNAME:EST
DTSTART:20221106T060000
END:STANDARD
BEGIN:DAYLIGHT
TZOFFSETFROM:-0500
TZOFFSETTO:-0400
TZNAME:EDT
DTSTART:20230312T070000
END:DAYLIGHT
BEGIN:STANDARD
TZOFFSETFROM:-0400
TZOFFSETTO:-0500
TZNAME:EST
DTSTART:20231105T060000
END:STANDARD
BEGIN:DAYLIGHT
TZOFFSETFROM:-0500
TZOFFSETTO:-0400
TZNAME:EDT
DTSTART:20240310T070000
END:DAYLIGHT
BEGIN:STANDARD
TZOFFSETFROM:-0400
TZOFFSETTO:-0500
TZNAME:EST
DTSTART:20241103T060000
END:STANDARD
END:VTIMEZONE
BEGIN:VEVENT
DTSTART;TZID=America/New_York:20230415T100000
DTEND;TZID=America/New_York:20230422T113000
DTSTAMP:20260422T172726
CREATED:20221022T181656Z
LAST-MODIFIED:20230315T225213Z
UID:2112-1681552800-1682163000@neearth.org
SUMMARY:Earth Day Celebration April 22nd\, 2023
DESCRIPTION:The Northeast Earth Coalition (NEEC)\, Montclair Climate Action\, The New Jersey Sierra Club\, and Bike and Walk Montclair invite you to join their 2023 Earth Day Celebration from April 15-22\, 2023\, for a week of events on the theme of restoring our planet. Live music by John Sherman’s Band & The Blooomingfield Band\, musicals performances by The Mayo Performing Art Center Company. Free event! \nJoin us for an Earth Week Celebration!    \nList of events: \nSaturday April 15th (9:30am – 11:30am): Kick off at Crane Park\, Montclair\, NJ 07042. Pollinator garden tour\, planting of native plants\, and park cleanup. \nMonday April 17th (9:30am – 10:30am): Discussion of the role of community gardens at 94 Pine Community Garden\, Montclair\, NJ 07042. \nWednesday April 19th (9:30am – 10:30am): Presentation: How does your garden grow? at 94 Pine Street Community Garden. Montclair\, NJ 07042. \nSaturday April 22nd (9:30am – 2:00pm): Official Earth Day Celebration at Crane Park\, Montclair\, NJ 07042. Environmental Proclamation by Montclair Township elected officials. Our volunteers will gather at Crane Park for cleanups on Pine Street\, Erie Park\, Brookdale Park\, and Glenridge Avenue (behind the Bay Street Train Station). Details will be provided after registration. \nSaturday April 22nd  (10:00am-2:00pm): Gates Avenue between Bloomfield and Glenridge Avenues: \nThis year\, the Earth Day Celebration will be combined with a Drive Electric Day event organized by NJ Sierra Club and Montclair Climate Action.  Over a dozen privately owned electric vehicle models will be on display\, and their owners will be available to talk about their experience owning and operating an electric vehicle and to answer questions such as how to find charging stations and how far their cars can go on a single charge.  The NJ Sierra Club will provide information on grants and subsidies available when purchasing electric vehicles\, and PSEG will have a representative on hand to answer questions about installing a charging station at your home. \nAlso on display will be an electric school bus\, electric bikes from Diamond Cycle\, and an electric lawn mower and snow blower. \nFor more details on the electric car show\, please visit Drive Electric Earth Day • Drive Electric Day Montclair 2023 • Montclair\, NJ • Apr 22\, 2023 \nTo attend any of these evernts\, please register here:\n \nWe will end Earth Day Week with many activities including environmental displays\, planting of native flowers\, community recognitions\, and live music. \nFor additional information & volunteer opportunities\, please e-mail us at: Info@neearth.org or check our calendar for other events and workshops. \nContact us at: Jose German\, NEEC CEO\, Info@neearth.org; Phone:(973) 233-1106 (Office). Multimedia links: https://www.neearth.org \nhttps://www.facebook.com/neearth.org \nWATCH EARTH VIDEO 2023! CLICK ON THE IMAGE  \nMake everyday Earth Day!\n\nFight climate change with diet change\nCalculate your footprint\nStand against deforestation\nOrganize community cleanups\nCompost\nLearn how to combat plastic pollution\nGo pesticide free\nTurn off lights when not in use\nSwitch to online billing\nSupport organic agriculture\nTake pictures\n\n \n  NJ ROCKLAND 350.org                    The Montclair Bird Club\nPurple Dragon Coop
URL:https://neearth.org/events/2112/
LOCATION:NJ
CATEGORIES:Community Outreach,Environmental Initiatives,Renewable Energy,Sustainability,Sustainable Transportation
ATTACH;FMTTYPE=image/jpeg:https://neearth.org/wp-content/uploads/2022/10/Banner-Earth-Day-Celebration-2023-Resized.jpg
ORGANIZER;CN="Northeast Earth Coalition":MAILTO:info@neearth.org
END:VEVENT
END:VCALENDAR