BEGIN:VCALENDAR
VERSION:2.0
PRODID:-//The Northeast Earth Coalition - ECPv6.15.20//NONSGML v1.0//EN
CALSCALE:GREGORIAN
METHOD:PUBLISH
X-ORIGINAL-URL:https://neearth.org
X-WR-CALDESC:Events for The Northeast Earth Coalition
REFRESH-INTERVAL;VALUE=DURATION:PT1H
X-Robots-Tag:noindex
X-PUBLISHED-TTL:PT1H
BEGIN:VTIMEZONE
TZID:America/New_York
BEGIN:DAYLIGHT
TZOFFSETFROM:-0500
TZOFFSETTO:-0400
TZNAME:EDT
DTSTART:20230312T070000
END:DAYLIGHT
BEGIN:STANDARD
TZOFFSETFROM:-0400
TZOFFSETTO:-0500
TZNAME:EST
DTSTART:20231105T060000
END:STANDARD
BEGIN:DAYLIGHT
TZOFFSETFROM:-0500
TZOFFSETTO:-0400
TZNAME:EDT
DTSTART:20240310T070000
END:DAYLIGHT
BEGIN:STANDARD
TZOFFSETFROM:-0400
TZOFFSETTO:-0500
TZNAME:EST
DTSTART:20241103T060000
END:STANDARD
BEGIN:DAYLIGHT
TZOFFSETFROM:-0500
TZOFFSETTO:-0400
TZNAME:EDT
DTSTART:20250309T070000
END:DAYLIGHT
BEGIN:STANDARD
TZOFFSETFROM:-0400
TZOFFSETTO:-0500
TZNAME:EST
DTSTART:20251102T060000
END:STANDARD
END:VTIMEZONE
BEGIN:VEVENT
DTSTART;TZID=America/New_York:20240406T090000
DTEND;TZID=America/New_York:20240406T163000
DTSTAMP:20260421T203312
CREATED:20231121T142510Z
LAST-MODIFIED:20240423T110023Z
UID:2514-1712394000-1712421000@neearth.org
SUMMARY:8th  Annual Conference: Acting Locally for a More Sustainable World
DESCRIPTION:WATCH THE VIDEO OF THE CONFERENCE HERE\n  \nUPCOMING ENVIRONMENTAL CONFERENCE\, MARK YOU CALENDAR AND COME! \nCONFERENCE PROGRAM: 8th Conference Program\nWelcome to the 8th Acting Locally for a More Sustainable World Conference! Join us at the University Hall Conference Center for an inspiring event dedicated to creating a greener future. This in-person gathering brings together passionate individuals from various backgrounds to share ideas\, learn from experts\, and take action toward a more sustainable world. Don’t miss this opportunity to connect with like-minded individuals\, attend insightful workshops\, and explore innovative solutions to environmental challenges. \nCome and meet community leaders to network on environmental issues\, including local food\, eco-friendly gardening\, sustainable communities\, alternative transportation\, renewable energy\, clean air and water\, environmental justice\, and climate change activism. \n\nFind out what’s happening in New Jersey and the region and see how you can help\nSet up a table to show what your organization or group is doing\nNetwork and explore collaboration on the spot\nHear speakers’ insights on local actions and national trends\nMeet with regional community leaders and groups to network with local environmental issues\n\nTo register for tabling\, please send an email to us at Conference@neearth.org. \nIf you’re interested in sponsorship opportunities\, please don’t hesitate to contact us via email at Info@neearth.org.If you’re interested in sponsorship opportunities\, please don’t hesitate to contact us via email at Info@neearth.org. \nTo help support our work\, go to www.neearth.org/donation/ \nMontclair State University Hall Conference\nTime: 9:00 am to 4:00 pm \nTogether\, we can make a difference and shape a better tomorrow. See you there! \nREGISTER NOW \nTo register for tabling\, please send an email to us at Conference@neearth.org. \nIf you’re interested in sponsorship opportunities\, please don’t hesitate to contact us via email at Info@neearth.org.  To help support our work\, go to www.neearth.org/donation/ \nMontclair State University:\nTime: 9:00am to 4:00pm  \nCONFERENCE PROGRAM: 8th Conference Program \n  \n \nMARCUS SIBLEY BIO: \nMarcus Sibley is an Environmental & Social Justice advocate\, speaker and recording artist with a profound passion for justice. The Newark\, NJ\, native and former Family Crisis Intervention Specialist\, with undergraduate & graduate Social Work degrees from Rutgers University\, is National Wildlife Federation’s NY Metro Director of Conservation Partnerships. He also serves as NJ Progressive Equitable Energy Coalition (NJPEEC) Chair\, Southern Burlington County NAACP Environmental & Climate Justice Chair\, and NJ Reparations Council Health Equity Committee Member. Recent former roles include NJ State Conference NAACP ECJ Chair\, Cancer Free Economy Network National Building Power Team member\, and SBC NAACP Immediate Past President. His most important and most cherished role of all is being his daughter’s father.\n\nPresentation: “Operation: Justice” Environmental injustices are the result of systemic coordinated actions. Environmental Justice is the result of coordinated collective passion. In this presentation Marcus Sibley explores the relevance and role of strategy in environmental advocacy.\n  \n \nJASON GRABOSKY\, PhD BIO: \nDr Grabosky is a Professor of Urban and Community Forestry at Rutgers University\, School of Environmental and Biological Sciences.  He is a writer and educator\, cited over 2000 times in Google Scholar.  He served as Director of the Center for Resilient Landscapes\, a joint venture of Rutgers and the USDA Forest Service.  Dr. Grabosky received his doctorate in Ornamental Horticulture from Cornell University and served for six years as Editor-in-Chief of the International Society of Arboriculture’s (ISA) research journal: Arboriculture & Urban Forestry. He was recently elected to serve on the ISA Board of Directors in 2023.\n\n\nPresentation: “Sharing space: Trees\, people and the developed landscapes of New Jersey.”  New Jersey can boast of an incredibly diverse listing of tree species which can variously provide canopy in what might be called an urban forest structure.  But questions can develop in a time where many folks do not even recognize the differences between the trees\, much less how they might deal with a rapidly changing environment.   We’ll chat about urban forestry\, where folks can engage in positive actions to impact their community\, and how we might look at service life for the trees in a municipality (publicly or privately held). \nWith a little historic perspective\, and a lot of creativity\, we can produce the values of longevity\, service and resilience in our vegetation within urban spaces in balance with the risks of investing in the living components of our communities.  Those choices are not in opposition with our build infrastructure\, if we choose to invest in integrated solutions versus exclusionary designs for single use simplicity. \n\n\n\nDONNA MERRILL BIO:\n\nDonna Merrill: Donna is the founder and President of the Board of Directors of the Pollinator Pathway\, which unites landowners across the country in creating public and private pesticide-free corridors of native plants for pollinating insects and birds. She has certification in Landscape Design from the NY Botanical Gardens\, and her conservation training includes studies in Sustainability Practices at Columbia University\, Land Protection Strategies at Bard College\, and Forest and Wildlife Conservation at the Yale University Coverts Project. Donna has been a leader in several Connecticut-based conservation bodies and is a Director of the Norwalk River Watershed Association.\n\nPresentation: “Pollinator Pathway – Be on It!” Native pollinators face mounting challenges from a combination of habitat fragmentation and climate change. This presentation will explore how we can mitigate this problem and help to rescue these essential creatures by creating corridors of pollinator-sustaining native plants to connect habitat and facilitate migration. Find how you can take part in this effort in a local park\, a neglected roadside\, or your own backyard. \n\nCONFERENCE PROGRAM: \n8th Conference Program – final version \nHOST AND CO-HOST: \n        \nPARTICIPATING ORGANIZATIONS: \n         \n          \n             \n            \n           \n          \n                         \n  \n  \n     \n    \nReserve your ticket here: \n  \n  \n \n \nThe Northeast Earth Coalition is a 501 (c)(3) Tax Exempt Volunteer Driven Nonprofit Organization \nPRESS PLEASE CONTACT US AT:  \nConference@neearth.org \n 
URL:https://neearth.org/events/8th-annual-conference-acting-locally-for-a-more-sustainable-world/
LOCATION:Montclair State University\, 1 Norman Avenue\, Montclair\, NJ\, 07043\, United States
CATEGORIES:Community Outreach,Environmental Initiatives,Renewable Energy,Sustainability,Sustainable Transportation
ATTACH;FMTTYPE=image/png:https://neearth.org/wp-content/uploads/2023/11/Conference-Flyer-Three-Speakers.png
ORGANIZER;CN="Northeast Earth Coalition":MAILTO:info@neearth.org
END:VEVENT
BEGIN:VEVENT
DTSTART;TZID=America/New_York:20240421T090000
DTEND;TZID=America/New_York:20240421T130000
DTSTAMP:20260421T203312
CREATED:20230916T161031Z
LAST-MODIFIED:20240423T105635Z
UID:2490-1713690000-1713704400@neearth.org
SUMMARY:Earth Day Celebration 2024
DESCRIPTION:WATCH THE VIDEO OF THE CONFERENCE HERE \nThe Northeast Earth Coalition (NEEC)\, invites you to join their 2024 Earth Day Celebration from April 15-22\, 2024\, for a week of events on the theme of restoring our planet. Live music by local performers. Free event! \nJoin us for an Earth Week Celebration!    \n \n  \n  \n  \n  \nList of events:  \n-Township Proclamation at Crane Park Demonstration Garden\, Spring cleanup\, and planting native plants \n-Stream cleanup (Toney’s Brook): Bay Street Train Station and Glenfield Park.  \n-Erie Park Cleanup \n-Pine Street Community Garden (Community Composting Program & Vegetable garden planting)  \n-Green Way Trail Cleanup (Montclair/Glen Ridge only)\n \n-Live Music and environmental displays \nOther activities to be announced \nTo attend any of these events\, please register here: \n \nWe will end Earth Day Week with many activities including environmental displays\, planting of native flowers\, community recognitions\, and live music. \nFor additional information & volunteer opportunities\, please e-mail us at: Info@neearth.org or check our calendar for other events and workshops. \nContact us at: Jose German\, NEEC CEO\, Info@neearth.org; Phone:(973) 233-1106 (Office). Multimedia links: https://www.neearth.org \nhttps://www.facebook.com/neearth.org \nWATCH EARTH VIDEO 2023! CLICK ON THE IMAGE  \nMake everyday Earth Day!\n\nFight climate change with diet change\nCalculate your footprint\nStand against deforestation\nOrganize community cleanups\nCompost\nLearn how to combat plastic pollution\nGo pesticide free\nTurn off lights when not in use\nSwitch to online billing\nSupport organic agriculture\nTake pictures\n\nTHE NEEC JOINED THE GREAT GLOBAL CLEANUP® MOVEMENT!\n \n       \n       
URL:https://neearth.org/events/earth-day-celebration-2024/
LOCATION:Crane Park\, Montclair\, NJ 07042\, Glenridge Avenue and Greenwood Avenue\, Montclair\, NJ\, 07042\, United States
CATEGORIES:Community Outreach,Environmental Initiatives,Health and Nutrition,Monarch Butterfly,Native Plants,Pollinators,Renewable Energy,Sustainability,Sustainable Transportation,Vegetable Gardening,Wildlife Habitats
ATTACH;FMTTYPE=image/jpeg:https://neearth.org/wp-content/uploads/2021/12/Conference-Logo-Resized-1.jpg
ORGANIZER;CN="Northeast Earth Coalition":MAILTO:info@neearth.org
END:VEVENT
END:VCALENDAR