BEGIN:VCALENDAR
VERSION:2.0
PRODID:-//The Northeast Earth Coalition - ECPv6.15.20//NONSGML v1.0//EN
CALSCALE:GREGORIAN
METHOD:PUBLISH
X-ORIGINAL-URL:https://neearth.org
X-WR-CALDESC:Events for The Northeast Earth Coalition
REFRESH-INTERVAL;VALUE=DURATION:PT1H
X-Robots-Tag:noindex
X-PUBLISHED-TTL:PT1H
BEGIN:VTIMEZONE
TZID:America/New_York
BEGIN:DAYLIGHT
TZOFFSETFROM:-0500
TZOFFSETTO:-0400
TZNAME:EDT
DTSTART:20250309T070000
END:DAYLIGHT
BEGIN:STANDARD
TZOFFSETFROM:-0400
TZOFFSETTO:-0500
TZNAME:EST
DTSTART:20251102T060000
END:STANDARD
BEGIN:DAYLIGHT
TZOFFSETFROM:-0500
TZOFFSETTO:-0400
TZNAME:EDT
DTSTART:20260308T070000
END:DAYLIGHT
BEGIN:STANDARD
TZOFFSETFROM:-0400
TZOFFSETTO:-0500
TZNAME:EST
DTSTART:20261101T060000
END:STANDARD
BEGIN:DAYLIGHT
TZOFFSETFROM:-0500
TZOFFSETTO:-0400
TZNAME:EDT
DTSTART:20270314T070000
END:DAYLIGHT
BEGIN:STANDARD
TZOFFSETFROM:-0400
TZOFFSETTO:-0500
TZNAME:EST
DTSTART:20271107T060000
END:STANDARD
END:VTIMEZONE
BEGIN:VEVENT
DTSTART;TZID=America/New_York:20260228T100000
DTEND;TZID=America/New_York:20260228T120000
DTSTAMP:20260420T110259
CREATED:20260118T230959Z
LAST-MODIFIED:20260211T220922Z
UID:3168-1772272800-1772280000@neearth.org
SUMMARY:Spring Vegetable Gardening - A Holistic Approach to Enhance your Gardening Skills
DESCRIPTION:Join the Vegetable Gardening Workshop with Jose German-Gomez\nLearn to Grow Food Like a Pro with Montclair’s Gardening Guru\nAre you interested in growing your own vegetables and cultivating a thriving garden? Don’t miss this unique opportunity to learn from one of Montclair’s most respected gardening experts! \nAbout Jose German-Gomez\nJose German-Gomez has been a passionate gardener for decades\, with a special affection for vegetable gardening. As a Montclair resident for the past 26 years\, Jose is widely recognized not only for his incredible gardening skills but also for his commitment to environmental activism. He has shared his expertise through published articles in local newspapers and magazines\, inspiring many in the community to embrace sustainable gardening practices. \nWhy Attend?\n\nLearn hands-on techniques for growing your own food\nGet expert tips from “The Montclair Gardening Guru” himself\nDiscover sustainable and eco-friendly gardening methods\nConnect with local gardening enthusiasts\nTake home knowledge that will help you succeed in your own garden\n\nWorkshop Details\n    \nInstructor: Jose German-Gomez \nLocation: First Congregational Church of Montclair\, 40 S Fullerton Ave\, Guild Hall \nDate & Time: February 28\, 10-noon \nWho Should Attend: Gardeners of all experience levels\, from beginners to seasoned growers. \nThis engaging workshop will cover a range of practical topics to help you cultivate a thriving vegetable garden. You’ll explore sustainable and eco-friendly gardening practices\, learn how to choose the best seeds for your space\, and discover the benefits of sequential planting for continuous harvests. Tips on maximizing productivity in small spaces\, crop rotation\, companion planting techniques\, and building healthy\, fertile soil will also be shared. Whether you’re just starting out or looking to enhance your skills\, these hands-on sessions are designed to empower every gardener to grow successfully and sustainably. \nHow to Register\nSpace is limited! To reserve your spot or to learn more\, please contact us at info@montclairgardens.org. Don’t miss your chance to learn from Jose German-Gomez and take your vegetable gardening skills to the next level! \nREGISTER HERE: EVENTBRITE EVENT \nJoin the workshop and be inspired to grow your own food\, care for the environment\, and become a part of Montclair’s vibrant gardening community. \n 
URL:https://neearth.org/events/spring-vegetable-gardening-a-holistic-approach-to-enhance-your-gardening-skills/
LOCATION:NJ
CATEGORIES:Community Outreach,Compost & Compost Tea,Health and Nutrition,Native Plants,Pollinators,Sustainability,Vegetable Gardening
ATTACH;FMTTYPE=image/jpeg:https://neearth.org/wp-content/uploads/2021/06/Beginning-of-Gardening-Season-2.jpg
END:VEVENT
END:VCALENDAR