BEGIN:VCALENDAR
VERSION:2.0
PRODID:-//The Northeast Earth Coalition - ECPv6.15.20//NONSGML v1.0//EN
CALSCALE:GREGORIAN
METHOD:PUBLISH
X-ORIGINAL-URL:https://neearth.org
X-WR-CALDESC:Events for The Northeast Earth Coalition
REFRESH-INTERVAL;VALUE=DURATION:PT1H
X-Robots-Tag:noindex
X-PUBLISHED-TTL:PT1H
BEGIN:VTIMEZONE
TZID:America/New_York
BEGIN:DAYLIGHT
TZOFFSETFROM:-0500
TZOFFSETTO:-0400
TZNAME:EDT
DTSTART:20250309T070000
END:DAYLIGHT
BEGIN:STANDARD
TZOFFSETFROM:-0400
TZOFFSETTO:-0500
TZNAME:EST
DTSTART:20251102T060000
END:STANDARD
BEGIN:DAYLIGHT
TZOFFSETFROM:-0500
TZOFFSETTO:-0400
TZNAME:EDT
DTSTART:20260308T070000
END:DAYLIGHT
BEGIN:STANDARD
TZOFFSETFROM:-0400
TZOFFSETTO:-0500
TZNAME:EST
DTSTART:20261101T060000
END:STANDARD
BEGIN:DAYLIGHT
TZOFFSETFROM:-0500
TZOFFSETTO:-0400
TZNAME:EDT
DTSTART:20270314T070000
END:DAYLIGHT
BEGIN:STANDARD
TZOFFSETFROM:-0400
TZOFFSETTO:-0500
TZNAME:EST
DTSTART:20271107T060000
END:STANDARD
END:VTIMEZONE
BEGIN:VEVENT
DTSTART;TZID=America/New_York:20260516T100000
DTEND;TZID=America/New_York:20260516T160000
DTSTAMP:20260421T062847
CREATED:20260218T185236Z
LAST-MODIFIED:20260218T185236Z
UID:3241-1778925600-1778947200@neearth.org
SUMMARY:Glen Ridge Arts & Eco Fair
DESCRIPTION:Join NEEC at Glen Ridge’s biggest event of the year! The street fair features vendors\, student artwork\, live music\, an EV car show\, a clothing swap\, native plants\, composting\, and more. \nSaturday\, May 16\, 10-4\, along Ridgewood Ave. between Bloomfield Ave. and Lincoln St. \nRain date Sunday\, May 17\, 10-4.
URL:https://neearth.org/events/glen-ridge-arts-eco-fair/
CATEGORIES:Community Outreach
ATTACH;FMTTYPE=image/jpeg:https://neearth.org/wp-content/uploads/2026/02/281141067_1032987747341785_6853129883102771679_n.jpg
ORGANIZER;CN="Glen Ridge Environmental Advisory Committee":MAILTO:glenridgeartsandecofair@gmail.com
END:VEVENT
END:VCALENDAR