BEGIN:VCALENDAR
VERSION:2.0
PRODID:-//The Northeast Earth Coalition - ECPv6.15.20//NONSGML v1.0//EN
CALSCALE:GREGORIAN
METHOD:PUBLISH
X-ORIGINAL-URL:https://neearth.org
X-WR-CALDESC:Events for The Northeast Earth Coalition
REFRESH-INTERVAL;VALUE=DURATION:PT1H
X-Robots-Tag:noindex
X-PUBLISHED-TTL:PT1H
BEGIN:VTIMEZONE
TZID:America/New_York
BEGIN:DAYLIGHT
TZOFFSETFROM:-0500
TZOFFSETTO:-0400
TZNAME:EDT
DTSTART:20220313T070000
END:DAYLIGHT
BEGIN:STANDARD
TZOFFSETFROM:-0400
TZOFFSETTO:-0500
TZNAME:EST
DTSTART:20221106T060000
END:STANDARD
BEGIN:DAYLIGHT
TZOFFSETFROM:-0500
TZOFFSETTO:-0400
TZNAME:EDT
DTSTART:20230312T070000
END:DAYLIGHT
BEGIN:STANDARD
TZOFFSETFROM:-0400
TZOFFSETTO:-0500
TZNAME:EST
DTSTART:20231105T060000
END:STANDARD
BEGIN:DAYLIGHT
TZOFFSETFROM:-0500
TZOFFSETTO:-0400
TZNAME:EDT
DTSTART:20240310T070000
END:DAYLIGHT
BEGIN:STANDARD
TZOFFSETFROM:-0400
TZOFFSETTO:-0500
TZNAME:EST
DTSTART:20241103T060000
END:STANDARD
END:VTIMEZONE
BEGIN:VEVENT
DTSTART;TZID=America/New_York:20231017T183000
DTEND;TZID=America/New_York:20231017T183000
DTSTAMP:20260422T083701
CREATED:20230914T131423Z
LAST-MODIFIED:20231017T171755Z
UID:2459-1697567400-1697567400@neearth.org
SUMMARY:Webinar: How does your garden grow?
DESCRIPTION:  \n  \n  \nJoin us for this workshop exploring holistic\, eco-friendly approaches to gardening. Learn about: \n\nWhat is eco-friendly gardening?\nSoil\, the cornerstone of the garden\nSustainable growing techniques\nSequential planting\nIncreasing productivity\nEnd of summer gardening and seed saving\nSustainable garden maintenance\n\nFOLLOW THE LINK:\nTopic: NEEC Webinar “How does your garden grow?\nTime: Oct 17\, 2023 06:30 PM Eastern Time (US and Canada)\n\nJoin Zoom Meeting\nhttps://us02web.zoom.us/j/84168737478?pwd=Q0diMW5HaWIxZ3hZY3phWXk3alRoZz09\n\nMeeting ID: 841 6873 7478\nPasscode: 115696\n\n—\n\nOne tap mobile\n+13017158592\,\,84168737478#\,\,\,\,*115696# US (Washington DC)\n+13052241968\,\,84168737478#\,\,\,\,*115696# US\n\n—\n\nDial by your location\n• +1 301 715 8592 US (Washington DC)\n• +1 305 224 1968 US\n• +1 309 205 3325 US\n• +1 312 626 6799 US (Chicago)\n• +1 646 558 8656 US (New York)\n• +1 646 931 3860 US\n• +1 719 359 4580 US\n• +1 253 205 0468 US\n• +1 253 215 8782 US (Tacoma)\n• +1 346 248 7799 US (Houston)\n• +1 360 209 5623 US\n• +1 386 347 5053 US\n• +1 507 473 4847 US\n• +1 564 217 2000 US\n• +1 669 444 9171 US\n• +1 669 900 9128 US (San Jose)\n• +1 689 278 1000 US\n\nMeeting ID: 841 6873 7478\nPasscode: 115696\n\nFind your local number: https://us02web.zoom.us/u/kNN3hfWWV\n\n\n         
URL:https://neearth.org/events/webinar-how-does-your-garden-grow/
LOCATION:NJ
CATEGORIES:Community Outreach,Health and Nutrition,Sustainability
ATTACH;FMTTYPE=image/jpeg:https://neearth.org/wp-content/uploads/2023/09/Webinar-Flyer-Resized-1-scaled.jpg
END:VEVENT
BEGIN:VEVENT
DTSTART;TZID=America/New_York:20231028T113000
DTEND;TZID=America/New_York:20231028T140000
DTSTAMP:20260422T083701
CREATED:20230914T154030Z
LAST-MODIFIED:20230920T142052Z
UID:2435-1698492600-1698501600@neearth.org
SUMMARY:14th Anniversary NEEC "End of the Harvest" Annual Lunch 2023 - Day of the Dead
DESCRIPTION:Join us to celebrate our traditional End of the Harvest Celebration. We will celebrate our gardening 2023 achievements and will honor our dedicated volunteers for their incredible community work. We also take advantage of the season to celebrate the Monarch Butterfly migration to Mexico and their ancient connection with Mexican culture and the celebration of the Day of the Dead. \nAuthentic Mexican food will be served as well as refreshments. A Mariachi band will be entertaining the audience.   BUY YOUR TICKETS HERE \nLocation: 40 South Fullerton Avenue (First Congregational Church)\, Guild Room\, Montclair\, New Jersey 07042 \nThe NEEC began celebrating the Day of the Dead in 2009\, to honor this Mexican ancient tradition connected to the Monarch Butterfly Migration. Our community garden volunteers of Mexican descent will create the altar installation following their traditional decoration and offerings. \n \n \n                  
URL:https://neearth.org/events/end-of-the-harvest-annual-lunch-2023-day-of-the-dead/
LOCATION:NJ
ATTACH;FMTTYPE=image/jpeg:https://neearth.org/wp-content/uploads/2023/09/End-of-the-harvest-flyer-resized-scaled.jpg
END:VEVENT
END:VCALENDAR