BEGIN:VCALENDAR
VERSION:2.0
PRODID:-//The Northeast Earth Coalition - ECPv6.15.20//NONSGML v1.0//EN
CALSCALE:GREGORIAN
METHOD:PUBLISH
X-WR-CALNAME:The Northeast Earth Coalition
X-ORIGINAL-URL:https://neearth.org
X-WR-CALDESC:Events for The Northeast Earth Coalition
REFRESH-INTERVAL;VALUE=DURATION:PT1H
X-Robots-Tag:noindex
X-PUBLISHED-TTL:PT1H
BEGIN:VTIMEZONE
TZID:America/New_York
BEGIN:DAYLIGHT
TZOFFSETFROM:-0500
TZOFFSETTO:-0400
TZNAME:EDT
DTSTART:20230312T070000
END:DAYLIGHT
BEGIN:STANDARD
TZOFFSETFROM:-0400
TZOFFSETTO:-0500
TZNAME:EST
DTSTART:20231105T060000
END:STANDARD
BEGIN:DAYLIGHT
TZOFFSETFROM:-0500
TZOFFSETTO:-0400
TZNAME:EDT
DTSTART:20240310T070000
END:DAYLIGHT
BEGIN:STANDARD
TZOFFSETFROM:-0400
TZOFFSETTO:-0500
TZNAME:EST
DTSTART:20241103T060000
END:STANDARD
BEGIN:DAYLIGHT
TZOFFSETFROM:-0500
TZOFFSETTO:-0400
TZNAME:EDT
DTSTART:20250309T070000
END:DAYLIGHT
BEGIN:STANDARD
TZOFFSETFROM:-0400
TZOFFSETTO:-0500
TZNAME:EST
DTSTART:20251102T060000
END:STANDARD
END:VTIMEZONE
BEGIN:VEVENT
DTSTART;TZID=America/New_York:20240520T193000
DTEND;TZID=America/New_York:20240520T203000
DTSTAMP:20260421T214142
CREATED:20240114T145805Z
LAST-MODIFIED:20240316T142317Z
UID:2569-1716233400-1716237000@neearth.org
SUMMARY:An Open Classroom\, The Community Garden
DESCRIPTION:Join us to hear about the experience of a man who is passionate about environmental protection\, native plants\, wildlife habitat\, community gardens and helping those in need. \nWHEN: MAY 20\, 2024 \nWHERE: HO-HO-KUS Garden Club\n \nTIME: 7:30pm \nSPEAKER: JOSE GERMAN-GOMEZ\, FOUNDER & CEO OF THE NORTHEAST EARTH COALITION \nJose is well known as an environmental activist in northern New Jersey as well as an educator in sustainable & Eco-friendly communities and organic gardening. His lecture “Gardening for life” have been presented in many communities of central and north jersey as well as in Dominican Republic and Puerto Rico. \nHe is co-founder of the Montclair Backyard Habitat Project sponsored by the National Wildlife Federation\, and is the founder of the Northeast Earth Coalition\, Inc. He is also a former member of the Township of Montclair Parks and Recreation Advisory Board. \nHe works has been covered by local media as well as the national magazines Bird Watch and Municipal. He is a blogger about environmental and urban farming issues and has a regular column “Gardening for Life” at the Montclair Local Newspaper. He is a certified Essex County Master Gardener and a Certified Rutgers Environmental Steward. In 2021\, Jose was selected by the New Jersey Latino Index\, as one the top ten most influential Latinos in New Jersey. Jose’s environmental and community work has been recognized by The Russ Berrie Make a Difference 2023 Award. \nHe holds an MBA from the Inter-American University of Puerto Rico. Jose is the former Vice President of Finance of Cerebral Palsy of North Jersey (CPNJ).  READ FULL BIOGRAPHY HERE \nSPONSORED BY HO-HO-KUS GARDEN CLUB \nJoin us for a night of sharing environmental and gardening initiatives of this great organization. The NEEC is a Montclair\, NJ based organization founded in 2016 and its programs are currently impacting 13 communities in Northern New Jersey. The organization since its foundation\, has been promoting a holistic gardening approach that integrates the creation or protection of wildlife habitats\, native plants\, pollinator garden\, composting and vegetable gardens.
URL:https://neearth.org/events/a-journey-toward-a-greener-future/
LOCATION:Ho-Ho-Kus Community Church\, 400 Warren Avenue\, Ho-Ho-Kus\, NJ\, 07423\, United States
ATTACH;FMTTYPE=image/jpeg:https://neearth.org/wp-content/uploads/2022/08/Best-Pine-St-picture-with-potatoes-bags-e1768239997697.jpg
ORGANIZER;CN="Ho-Ho-Kus Garden Club":MAILTO:Info@neearth.org
END:VEVENT
BEGIN:VEVENT
DTSTART;TZID=America/New_York:20240525T093000
DTEND;TZID=America/New_York:20240525T140000
DTSTAMP:20260421T214142
CREATED:20240114T151116Z
LAST-MODIFIED:20240505T151143Z
UID:2574-1716629400-1716645600@neearth.org
SUMMARY:Montclair Eco-Fair May 25\, 2024 - This event is canceled\, and a new day will be announced soon
DESCRIPTION:Montclair Eco-Fair 2024: This is a community event that you will want to be part of. Join local environmentalists and community activists in an outdoor event with environmental displays. Come and learn about gardening for pollinators and butterflies\, native plants\, edible landscapes\, community gardens\, environmental restoration\, composting\, and volunteer opportunities. Enjoy live music by local performers.  \nParticipant groups: We hope to see back all the groups that were tabling at the event last year\, and more!  \nEco Fair 2023 participants: Bike and Walk Montclair; NJ Native Plant Society\, Essex County Chapter;  Montclair Climate Action\, Momentum Solar Power\, Montclair League of Women Voters\, MOM’s Organic Market\, Montclair Backyard Wildlife Habitat\, NEEC Community Food Network\, Montclair Make Music Day\, Essex Ridge Apiaries\, DollyMoo\, The Green Cause\, The Montclair Community Farm\, MASN Coop\, Just Honest\, Green House Solar\, Northeast Pollinator Pathways\, Rockland-New Jersey 350.org\, Food and Water Watch\, Montclair Girl Scouts Troop\, St. James Thrift Shop\, New Jersey Sierra Club\,  Purple Dragon Coop\, St. Barnabas Hospital\, Empower NJ Coalition\, and USDA Natural Resources Conservation Service among other community and environmental groups.  \nThe Northeast Earth Coalition is partnering with St. James Episcopal Church to host this important community environment event.   \nWould your group like to participate? Tabling opportunities! Please contact us at: Info@neearth.org \n      \n     
URL:https://neearth.org/events/montclair-eco-fair-may-25-2024/
LOCATION:NJ
ATTACH;FMTTYPE=image/png:https://neearth.org/wp-content/uploads/2024/01/Eco-Fair-2024.png
END:VEVENT
END:VCALENDAR