BEGIN:VCALENDAR
VERSION:2.0
PRODID:-//The Northeast Earth Coalition - ECPv6.15.20//NONSGML v1.0//EN
CALSCALE:GREGORIAN
METHOD:PUBLISH
X-WR-CALNAME:The Northeast Earth Coalition
X-ORIGINAL-URL:https://neearth.org
X-WR-CALDESC:Events for The Northeast Earth Coalition
REFRESH-INTERVAL;VALUE=DURATION:PT1H
X-Robots-Tag:noindex
X-PUBLISHED-TTL:PT1H
BEGIN:VTIMEZONE
TZID:America/New_York
BEGIN:DAYLIGHT
TZOFFSETFROM:-0500
TZOFFSETTO:-0400
TZNAME:EDT
DTSTART:20230312T070000
END:DAYLIGHT
BEGIN:STANDARD
TZOFFSETFROM:-0400
TZOFFSETTO:-0500
TZNAME:EST
DTSTART:20231105T060000
END:STANDARD
BEGIN:DAYLIGHT
TZOFFSETFROM:-0500
TZOFFSETTO:-0400
TZNAME:EDT
DTSTART:20240310T070000
END:DAYLIGHT
BEGIN:STANDARD
TZOFFSETFROM:-0400
TZOFFSETTO:-0500
TZNAME:EST
DTSTART:20241103T060000
END:STANDARD
BEGIN:DAYLIGHT
TZOFFSETFROM:-0500
TZOFFSETTO:-0400
TZNAME:EDT
DTSTART:20250309T070000
END:DAYLIGHT
BEGIN:STANDARD
TZOFFSETFROM:-0400
TZOFFSETTO:-0500
TZNAME:EST
DTSTART:20251102T060000
END:STANDARD
END:VTIMEZONE
BEGIN:VEVENT
DTSTART;TZID=America/New_York:20240608T100000
DTEND;TZID=America/New_York:20240622T120000
DTSTAMP:20260421T201100
CREATED:20240316T125357Z
LAST-MODIFIED:20240527T215435Z
UID:2683-1717840800-1719057600@neearth.org
SUMMARY:Nourish Your Family: Plant-Based Culinary & Garden Yoga Workshop Series (3)
DESCRIPTION:Sponsored by: Northeast Earth Coalition\, Partners for Health Foundation and Union Congregational Church \n     \nDATES: June 8\, June 15\, and June 22\, 2024\nLOCATION (June 8th and 15th): Cole Room\, Vincent Building Union Congregational Church\, 176 Cooper Avenue\, Montclair\, NJ 07043\nLOCATION (June 22nd): The MC Hotel\, 690 Bloomfield Avenue\, Montclair\, 07042\n\nWORKSHOP DESCRIPTION:\nDanielle Medina (Fit N Play Mama LLC) offers a transformative four-series presentation where families and community members can learn to cultivate a love for plant-based cooking and wellness through interactive culinary experiences and garden yoga movement exercises. This series empowers families to embrace a healthy lifestyle by incorporating gardening\, community building\, nutritious eating\, and daily movement into their daily routines. \n \nOBJECTIVES: \nTo educate families about the benefits of plant-based eating and its positive impact on overall health and well-being. To provide practical culinary skills and recipe ideas for preparing delicious and nutritious plant-based meals that the whole family will love. To promote physical activity and mindfulness through garden yoga movement exercises\, fostering a holistic approach to wellness. \nPRESENTER:\nDanielle Medina is actively growing the whole food plant-based & fitness community in New York City and beyond. She is the creator of Fit N Play Mama LLC\, a lifestyle coaching educational service for adults and children. She offers consultations\, and classes as well as workshops to teach the importance of staying active and eating healthy throughout life. As a certified fitness/ yoga expert\, culinary educator\, nutritionist\, and mom\, she focuses on empowering her clients by providing them with easy and practical mindful fitness routines and meal plan cooking guides. \nDanielle Medina was a distinguished panelist at the 2nd Annual Plant-Based Nutrition & Health Conference at SUNY Downstate in Brooklyn\, New York\, where she presented on Plant-Based Nutrition and Athletic Performance. Her expertise in this field was further recognized through her work with the Plant Powered Metro New York\, NYC Health + Hospitals\, New York Presbyterian Hospital/Columbia University Medical Center\, and her recent content contribution to Global Vegan Lifestyle and Whole Food Living magazines. In addition\, Danielle’s exceptional public speaking skills earned her Club President for Unity East Toastmasters and 1st place in the Brooklyn Toastmasters International area speech contest. Whether she is writing articles\, conducting interviews\, or teaching her educational webinars\, classes\, and workshops\, Danielle Medina loves sharing her knowledge with a variety of audiences on taking back their health and living their best life. \nDANIELLE MEDINA’S DEGREES AND CERTIFICATIONS INCLUDE THE FOLLOWING:\n\nBachelor of Science Degree Food Science and Nutrition – Brooklyn College\nAerobic and Fitness Association of America\nAmerican Council of Exercise\nNational Academy of Sports Medicine\nRegistered Yoga Teacher\nKarma Kids Yoga\nPrenatal and Postpartum Fitness\nYouth Fitness Specialist\nPlant-Based Nutrition – eCornell T. Colin Campbell Center for Nutrition Studies\nForks Over Knives Online Ultimate Cooking Course\nFood For Life Instructor – Physicians Committee For Responsible Medicine\n\nSESSIONS OVERVIEW: \nSession 1: Plant-Powered Cooking Basics\n\nIntroduction to plant-based eating and its health benefits.\nHands-on cooking demonstration of simple and nutritious plant-based recipes.\nGarden yoga movement exercise focused on mindfulness and relaxation\n\n\nSession 2: Growing Your Garden\, and Sustaining a Healthy Style  \n\nOverview of gardening basics and how to start a family garden. Gardening tips for growing your own food\nGarden yoga movement exercises to promote physical activity and connection with nature.\nStrategies for incorporating plant-based eating and daily movement into your family’s routine.\nMeal planning tips and resources for maintaining a healthy and balanced diet.\n\n\nSession 3: Exploring Flavorful Plant-Based Cuisine \n\nIntroduction to different plant-based ingredients and their culinary uses.\nCooking techniques for maximizing flavor and nutrition in plant-based meals.\nAn interactive cooking workshop where families can create plant-based dishes.\nFinal cooking demonstration featuring family-friendly plant-based recipes.\nCelebration and reflection session with a garden yoga movement exercise to honor the journey toward wellness.\n\n \nSUPPORT OUR COMMUNITY PROGRAMS:\n \n 
URL:https://neearth.org/events/nourish-your-family-plant-based-culinary-garden-yoga-workshop-series-3/
LOCATION:Union Congregational Church\, 176 Cooper Avenue\, Montclair\, NJ\, 07043\, United States
ATTACH;FMTTYPE=image/png:https://neearth.org/wp-content/uploads/2024/03/Danielle-Medina-Flyer.png
ORGANIZER;CN="Northeast Earth Coalition":MAILTO:info@neearth.org
END:VEVENT
END:VCALENDAR