BEGIN:VCALENDAR
VERSION:2.0
PRODID:-//The Northeast Earth Coalition - ECPv6.15.20//NONSGML v1.0//EN
CALSCALE:GREGORIAN
METHOD:PUBLISH
X-ORIGINAL-URL:https://neearth.org
X-WR-CALDESC:Events for The Northeast Earth Coalition
REFRESH-INTERVAL;VALUE=DURATION:PT1H
X-Robots-Tag:noindex
X-PUBLISHED-TTL:PT1H
BEGIN:VTIMEZONE
TZID:America/New_York
BEGIN:DAYLIGHT
TZOFFSETFROM:-0500
TZOFFSETTO:-0400
TZNAME:EDT
DTSTART:20240310T070000
END:DAYLIGHT
BEGIN:STANDARD
TZOFFSETFROM:-0400
TZOFFSETTO:-0500
TZNAME:EST
DTSTART:20241103T060000
END:STANDARD
BEGIN:DAYLIGHT
TZOFFSETFROM:-0500
TZOFFSETTO:-0400
TZNAME:EDT
DTSTART:20250309T070000
END:DAYLIGHT
BEGIN:STANDARD
TZOFFSETFROM:-0400
TZOFFSETTO:-0500
TZNAME:EST
DTSTART:20251102T060000
END:STANDARD
BEGIN:DAYLIGHT
TZOFFSETFROM:-0500
TZOFFSETTO:-0400
TZNAME:EDT
DTSTART:20260308T070000
END:DAYLIGHT
BEGIN:STANDARD
TZOFFSETFROM:-0400
TZOFFSETTO:-0500
TZNAME:EST
DTSTART:20261101T060000
END:STANDARD
END:VTIMEZONE
BEGIN:VEVENT
DTSTART;TZID=America/New_York:20250103T080000
DTEND;TZID=America/New_York:20250110T170000
DTSTAMP:20260421T085924
CREATED:20250103T144343Z
LAST-MODIFIED:20250103T144735Z
UID:2805-1735891200-1736528400@neearth.org
SUMMARY:Flourishing Communities - Voting for NEEC Project
DESCRIPTION:The NEEC is participating in the “Flourishing in Community” project sponsored by Fordham University & the EPA. We need your help: Please vote for us! Project Number 143. Vote here: https://bit.ly/FIC-NJ \nYour vote will help us get a $75k grant. @highlight\, #FloreceNJ\, @fic.fec
URL:https://neearth.org/events/flourishing-communities-voting-for-neec-project/
LOCATION:NJ
ATTACH;FMTTYPE=image/jpeg:https://neearth.org/wp-content/uploads/2025/01/Environmental-Campaign-Modern-Blue-and-Green-Flyer-Corrected.jpg
END:VEVENT
END:VCALENDAR