BEGIN:VCALENDAR
VERSION:2.0
PRODID:-//The Northeast Earth Coalition - ECPv6.15.20//NONSGML v1.0//EN
CALSCALE:GREGORIAN
METHOD:PUBLISH
X-WR-CALNAME:The Northeast Earth Coalition
X-ORIGINAL-URL:https://neearth.org
X-WR-CALDESC:Events for The Northeast Earth Coalition
REFRESH-INTERVAL;VALUE=DURATION:PT1H
X-Robots-Tag:noindex
X-PUBLISHED-TTL:PT1H
BEGIN:VTIMEZONE
TZID:America/New_York
BEGIN:DAYLIGHT
TZOFFSETFROM:-0500
TZOFFSETTO:-0400
TZNAME:EDT
DTSTART:20240310T070000
END:DAYLIGHT
BEGIN:STANDARD
TZOFFSETFROM:-0400
TZOFFSETTO:-0500
TZNAME:EST
DTSTART:20241103T060000
END:STANDARD
BEGIN:DAYLIGHT
TZOFFSETFROM:-0500
TZOFFSETTO:-0400
TZNAME:EDT
DTSTART:20250309T070000
END:DAYLIGHT
BEGIN:STANDARD
TZOFFSETFROM:-0400
TZOFFSETTO:-0500
TZNAME:EST
DTSTART:20251102T060000
END:STANDARD
BEGIN:DAYLIGHT
TZOFFSETFROM:-0500
TZOFFSETTO:-0400
TZNAME:EDT
DTSTART:20260308T070000
END:DAYLIGHT
BEGIN:STANDARD
TZOFFSETFROM:-0400
TZOFFSETTO:-0500
TZNAME:EST
DTSTART:20261101T060000
END:STANDARD
END:VTIMEZONE
BEGIN:VEVENT
DTSTART;TZID=America/New_York:20250330T090000
DTEND;TZID=America/New_York:20250923T223000
DTSTAMP:20260420T220420
CREATED:20241229T212907Z
LAST-MODIFIED:20250923T185739Z
UID:2802-1743325200-1758666600@neearth.org
SUMMARY:Beginning of Gardening Season 2025 - Volunteer Opportunities
DESCRIPTION:  \n     \n     \nJoin us for an exciting gardening season and environmental activism. We have 14 long-term environmental projects in Northern New Jersey and 7 community gardens associated to our Urban Growers Program. To learn more about our volunteer opportunities please click here
URL:https://neearth.org/events/beginning-of-gardening-season-2025-volunteer-opportunities/
LOCATION:Pine Street Community Garden\, at Our Lady of Mt. Carmel Church\, 94 Pine Street\, Montclair\, NJ\, 07042\, United States
ATTACH;FMTTYPE=image/jpeg:https://neearth.org/wp-content/uploads/2022/07/Summer-vegetables-harvest-2020-6.jpg
ORGANIZER;CN="Northeast Earth Coalition":MAILTO:info@neearth.org
END:VEVENT
BEGIN:VEVENT
DTSTART;TZID=America/New_York:20250906T150000
DTEND;TZID=America/New_York:20250906T170000
DTSTAMP:20260420T220420
CREATED:20250819T130928Z
LAST-MODIFIED:20250819T130928Z
UID:2943-1757170800-1757178000@neearth.org
SUMMARY:Harvest Celebration - September 6th 3:00-5:00pm - Crane Park\, Montclair
DESCRIPTION:Honoring Community\, Abundance\, and Sustainability\nInterested in starting an organic vegetable garden? Want to find out more about composting? Seeking opportunities to volunteer in a community garden or a local organization? Looking for fun activities for kids? \nThe Northeast Earth Coalition (NEEC) invites you to join us in celebrating the work of local gardeners and volunteers and spreading the word about sustainable gardening and shared resources.  \nJoin us for:\n\nChildren’s crafts and a scavenger hunt\nTours of the Crane Park Pollinator Garden\nDisplays of locally grown organic produce\nTabling by local gardening\, environmental\, and mutual aid groups\nQ&A with a Certified Master Gardener on sustainable organic gardening techniques\nCommunity Circle for sharing gardening experiences and recipes.\nA food drive to collect non-perishable items for the NEEC Free Little Pantries*\n\nFree and open to all!\nParticipants are encouraged to bring copies of harvest-themed recipes to share and non-perishable pantry items for the NEEC Free Little Pantry food drive. \nCOMMUNITY GROUPS ARE WELCOME TO TABLE. WE ARE LOOKING FOR SPONSORS! \nPlease contact the NEEC at: Info@neearth.org  for further information or to volunteer.\n *The NEEC Free Little Pantries provide free food for neighbors in need in 18 locations in five local towns.
URL:https://neearth.org/events/harvest-celebration-september-6th-300-500pm-crane-park-montclair/
LOCATION:Crane Park\, Montclair\, NJ 07042\, Glenridge Avenue and Greenwood Avenue\, Montclair\, NJ\, 07042\, United States
ATTACH;FMTTYPE=image/png:https://neearth.org/wp-content/uploads/2025/08/Flyer-last-version-for-email-blast.png
ORGANIZER;CN="Northeast Earth Coalition":MAILTO:info@neearth.org
END:VEVENT
END:VCALENDAR